BEGIN:VCALENDAR
VERSION:2.0
PRODID:-//eventon.com NONSGML v1.0//EN
CALSCALE:GREGORIAN
METHOD:PUBLISH
BEGIN:VEVENT
UID:69e8c4e4d0945
DTSTAMP:20260422T125356Z
DTSTART:20241123T220000Z
DTEND:20241124T010000Z
LOCATION:Southwest Virginia Museum Historical State Park 10 West First Street North\,  Big Stone Gap\,  VA 24219
SUMMARY:Festival of Trees - Southwest Virginia Museum Historical State Park | Big Stone Gap\,  Va
DESCRIPTION:The Southwest Virginia Museum Historical State Park is pleased 
 to present “The Festival of Trees: An Evening Aglow” on November 23 and
  December 21 from 5 to 8 p.m. For these two evenings only\,  visitors will 
 be offered an opportunity to view the museum in a different light. With ove
 rhead[..]\nhttps://heartofappalachia.com/event/festival-of-trees/
URL:https://heartofappalachia.com/event/festival-of-trees/
END:VEVENT
END:VCALENDAR