BEGIN:VCALENDAR
VERSION:2.0
PRODID:-//eventon.com NONSGML v1.0//EN
CALSCALE:GREGORIAN
METHOD:PUBLISH
BEGIN:VEVENT
UID:69e4ccc5953c0
DTSTAMP:20260419T123829Z
DTSTART:20250529T223000Z
DTEND:20250530T035900Z
LOCATION:Downtown St. Paul St. Paul\,  VA 24283
SUMMARY:Clinch River Days | St. Paul\,  Va
DESCRIPTION:May 29 &#8211; 31\,  2025. Tours and exhibitions of the scenic 
 Clinch River take place throughout the weekend. There&#8217;s the tradition
 al Mussel Walk\,  where the Clinch River&#8217;s rare mussels are on displa
 y. Visitors can take a birding walk in one of Virginia&#8217;s newest desig
 nated bird and wildlife regions\,  schedule a[..]\nhttps://heartofappalachi
 a.com/event/clinch-river-days/
URL:https://heartofappalachia.com/event/clinch-river-days/
END:VEVENT
END:VCALENDAR