BEGIN:VCALENDAR
VERSION:2.0
PRODID:-//eventon.com NONSGML v1.0//EN
CALSCALE:GREGORIAN
METHOD:PUBLISH
BEGIN:VEVENT
UID:69e8d3eaf0c05
DTSTAMP:20260422T135802Z
DTSTART:20251023
DTEND:20251024
LOCATION:Southern Gap Outdoor Adventure 1124 Chipping Sparrow Road\,  Grundy\,  VA 24614
SUMMARY:Southern Gap Elk Fest | Grundy\,  VA
DESCRIPTION:It&#8217;s coming up next month in Grundy\,  VA at Southern Gap
 Outdoor Adventure! From a Wild Game Dinner to bonfire storytelling\,  elk v
 iewing tours to axe throwing and mountain games to music\,  Southern Gap El
 k Fest is the perfect fall getaway in the Heart of Appalachia! Set for Octo
 ber 23-25\,  you[..]\nhttps://heartofappalachia.com/event/southern-gap-elk-
 fest-2/
URL:https://heartofappalachia.com/event/southern-gap-elk-fest-2/
END:VEVENT
END:VCALENDAR