BEGIN:VCALENDAR
VERSION:2.0
PRODID:-//eventon.com NONSGML v1.0//EN
CALSCALE:GREGORIAN
METHOD:PUBLISH
BEGIN:VEVENT
UID:69e75c132cb44
DTSTAMP:20260421T111427Z
DTSTART:20230610T220000Z
DTEND:20230611T020000Z
LOCATION:Carter Family Fold 3449 AP Carter Highway\,  Hiltons\,  VA 24258
SUMMARY:Whitetop Mountain Band at Carter Family Fold
DESCRIPTION:Whitetop Mountain Band will perform live at the Carter Family F
 old on June 10. Everything from fiddle and banjo instrumentals to powerful 
 solos and harmony vocals on blues\,  classic country\,  honky tonk\,  tradi
 tional bluegrass numbers\,  old timey ballads\,  originals\,  four-part mou
 ntain gospel songs – and some flat foot dancing.\nhttps://heartofappalach
 ia.com/event/whitetop-mountain-band-at-carter-family-fold-2/
URL:https://heartofappalachia.com/event/whitetop-mountain-band-at-carter-family-fold-2/
END:VEVENT
END:VCALENDAR