BEGIN:VCALENDAR
VERSION:2.0
PRODID:-//eventon.com NONSGML v1.0//EN
CALSCALE:GREGORIAN
METHOD:PUBLISH
BEGIN:VEVENT
UID:69e924fbb49da
DTSTAMP:20260422T194355Z
DTSTART:20240405T220000Z
DTEND:20240406T000000Z
LOCATION:UVa-Wise Oxbow Center 16620 East Riverside Drive
SUMMARY:Drawing From Nature
DESCRIPTION:Interactive drawing class en plein air where each student will 
 begin a field journal of still like drawings from local flora\,  fauna and 
 landscapes.\nhttps://heartofappalachia.com/event/drawing-from-nature/
URL:https://heartofappalachia.com/event/drawing-from-nature/
END:VEVENT
END:VCALENDAR