BEGIN:VCALENDAR
VERSION:2.0
PRODID:-//eventon.com NONSGML v1.0//EN
CALSCALE:GREGORIAN
METHOD:PUBLISH
BEGIN:VEVENT
UID:69ea195e249a1
DTSTAMP:20260423T130638Z
DTSTART:20240928T220000Z
DTEND:20240929T020000Z
LOCATION:Carter Family Fold 3449 AP Carter Highway\,  Hiltons\,  VA 24258
SUMMARY:Carter Family Fold presents Ralph Stanely II and The Clinch Mountain Boys | Hiltons\,  Va
DESCRIPTION:The Carter Family Fold presents Ralph Stanley II and The Clinch
  Mountain Boys. The performance will be held on September 28. Doors open at
  6 p.m. with music starting at 7:30 p.m. Concessions will be available. Tic
 kets are available – $16 for ages 12 and up\,  $3 for ages 6-11\, [..]\nh
 ttps://heartofappalachia.com/event/carter-family-fold-presents-ralph-stanel
 y-ii-and-the-clinch-mountain-boys/
URL:https://heartofappalachia.com/event/carter-family-fold-presents-ralph-stanely-ii-and-the-clinch-mountain-boys/
END:VEVENT
END:VCALENDAR