BEGIN:VCALENDAR
VERSION:2.0
PRODID:-//eventon.com NONSGML v1.0//EN
CALSCALE:GREGORIAN
METHOD:PUBLISH
BEGIN:VEVENT
UID:69e8b3da90129
DTSTAMP:20260422T114114Z
DTSTART:20240901T003000Z
DTEND:20240831T163000Z
LOCATION:Natural Tunnel State Park 1420 Natural Tunnel Parkway\,  Duffield\,  VA 24244
SUMMARY:Kayak the Clinch
DESCRIPTION:Aug. 31\,  2024. 8:30 a.m. &#8211; 12:30 p.m. Spend time floati
 ng five and a half miles down the Clinch River. View a variety of aquatic l
 ife from longnose gar to fresh water mussels. Watch Great Blue Herons fly
  by\,  and turtles sunning themselves on logs and rocks. If you are lucky\,
   you[..]\nhttps://heartofappalachia.com/event/kayak-the-clinch/
URL:https://heartofappalachia.com/event/kayak-the-clinch/
END:VEVENT
END:VCALENDAR