BEGIN:VCALENDAR
VERSION:2.0
PRODID:-//eventon.com NONSGML v1.0//EN
CALSCALE:GREGORIAN
METHOD:PUBLISH
BEGIN:VEVENT
UID:69e8d5b6a6211
DTSTAMP:20260422T140542Z
DTSTART:20240920T230000Z
DTEND:20240921T020000Z
LOCATION:Good Times Coal-Fired Pizza &amp; Pub 215 Wood Avenue E
SUMMARY:Double Tap | Big Stone Gap\,  Va
DESCRIPTION:Double tap hits the stage at 7pm! Don’t miss this one of a ki
 nd duo\,  they got it going on! These guys rock the GoodTimes stage with th
 e best classic rock tunes and they are sure to get you up out of your chair
 \,  with their electrifying tunes and energy!\nhttps://heartofappalachia.co
 m/event/double-tap-big-stone-gap-va/
URL:https://heartofappalachia.com/event/double-tap-big-stone-gap-va/
END:VEVENT
END:VCALENDAR