BEGIN:VCALENDAR
VERSION:2.0
PRODID:-//eventon.com NONSGML v1.0//EN
CALSCALE:GREGORIAN
METHOD:PUBLISH
BEGIN:VEVENT
UID:69e4c514203ed
DTSTAMP:20260419T120540Z
DTSTART:20241111T000000Z
DTEND:20241110T053000Z
LOCATION:Jettie Baker Center 348 Main Street\,  Clintwood\,  VA 24228
SUMMARY:Wayne Hancock | Clintwood\,  Va
DESCRIPTION:Jettie Baker Center is excited to welcome the King of Juke Join
 t Swing\,  Wayne &#8220;The Train&#8221; Hancock on November 10 at 7pm. Joi
 ning Wayne on the Country Cookin&#8217; Tour\,  will be special guests IV &
 amp; the Strange Band\,  led by Coleman Williams\,  the fourth (IV) generat
 ion of the Hank Williams[..]\nhttps://heartofappalachia.com/event/wayne-han
 cock-clintwood-va/
URL:https://heartofappalachia.com/event/wayne-hancock-clintwood-va/
END:VEVENT
END:VCALENDAR