BEGIN:VCALENDAR
VERSION:2.0
PRODID:-//eventon.com NONSGML v1.0//EN
CALSCALE:GREGORIAN
METHOD:PUBLISH
BEGIN:VEVENT
UID:69e4c4bccd58b
DTSTAMP:20260419T120412Z
DTSTART:20241011T160000Z
DTEND:20241011T040000Z
LOCATION:Good Times Coal-Fired Pizza &amp; Pub 215 Wood Avenue E
SUMMARY:Open Picking Jam Session at Good Times | Big Stone Gap\,  Va
DESCRIPTION:Live music at Good Times Coal-Fired Pizza &amp; Pub.  Come out
  for a great night of music and food!\nhttps://heartofappalachia.com/event/
 open-picking-jam-session-at-good-times-big-stone-gap-va/
URL:https://heartofappalachia.com/event/open-picking-jam-session-at-good-times-big-stone-gap-va/
END:VEVENT
END:VCALENDAR