BEGIN:VCALENDAR
VERSION:2.0
PRODID:-//eventon.com NONSGML v1.0//EN
CALSCALE:GREGORIAN
METHOD:PUBLISH
BEGIN:VEVENT
UID:69e5e15e440dd
DTSTAMP:20260420T081838Z
DTSTART:20260504T160000Z
DTEND:20260504T220000Z
LOCATION:MountainRose Vineyards 10439 N Reservoir Road\,  Wise\,  VA 24293
SUMMARY:Senior Sipper Monday at MountainRose Vineyards | Wise\,  Va
DESCRIPTION:55 and up all day! All wine 15% off.  Come out for a great tim
 e!\nhttps://heartofappalachia.com/event/senior-sipper-monday-at-mountainros
 e-vineyards-wise-va/var/ri-82.l-L1
URL:https://heartofappalachia.com/event/senior-sipper-monday-at-mountainrose-vineyards-wise-va/var/ri-82.l-L1
END:VEVENT
END:VCALENDAR