BEGIN:VCALENDAR
VERSION:2.0
PRODID:-//eventon.com NONSGML v1.0//EN
CALSCALE:GREGORIAN
METHOD:PUBLISH
BEGIN:VEVENT
UID:69eb318d8f9a7
DTSTAMP:20260424T090205Z
DTSTART:20241026T210000Z
DTEND:20241027T035900Z
LOCATION:Lonesome Pine Motorsports Park 10802 Old Norton Coeburn Rd\,  Coeburn\,  VA 24230
SUMMARY:Hillbilly Halloween Showdown at Lonesome Pine | Coeburn\,  Va
DESCRIPTION:Tough truck\,  side by side racing\,  kids costume contest\,  a
 nd so much more!\nhttps://heartofappalachia.com/event/hillbilly-halloween-s
 howdown-at-lonesome-pine-coeburn-va/
URL:https://heartofappalachia.com/event/hillbilly-halloween-showdown-at-lonesome-pine-coeburn-va/
END:VEVENT
END:VCALENDAR