BEGIN:VCALENDAR
VERSION:2.0
PRODID:-//eventon.com NONSGML v1.0//EN
CALSCALE:GREGORIAN
METHOD:PUBLISH
BEGIN:VEVENT
UID:69e61aa9a44a5
DTSTAMP:20260420T122305Z
DTSTART:20250829T230000Z
DTEND:20250830T035900Z
LOCATION:MountainRose Vineyards 10439 N Reservoir Road\,  Wise\,  VA 24293
SUMMARY:Sips & Singles - MountainRose Vineyards | Wise\,  Va
DESCRIPTION:Sips &amp; Singles at MountainRose Vineyards! Ages 35–50. Win
 e\,  charcuterie &amp; connections in a relaxed vineyard setting. Join us f
 or a night of fun and games at the winery with a new twist on speed dating!
  We will also be doing one for ages 21-35 on a separate day! Thank[..]\nhtt
 ps://heartofappalachia.com/event/sips-singles-mountainrose-vineyards-wise-v
 a/
URL:https://heartofappalachia.com/event/sips-singles-mountainrose-vineyards-wise-va/
END:VEVENT
END:VCALENDAR