BEGIN:VCALENDAR
VERSION:2.0
PRODID:-//eventon.com NONSGML v1.0//EN
CALSCALE:GREGORIAN
METHOD:PUBLISH
BEGIN:VEVENT
UID:69e77953c84f8
DTSTAMP:20260421T131915Z
DTSTART:20251123T003000Z
DTEND:20251123T030000Z
LOCATION:Carter Family Fold 3449 AP Carter Highway\,  Hiltons\,  VA 24258
SUMMARY:Carter Family Fold presents Whitetop Mountain Band | Hiltons\,  Va
DESCRIPTION:The Whitetop Mountain Band is a family-based band from the high
 est mountains of Virginia. Whitetop\,  Virginia is an area rich in the old 
 time music tradition; this band has deep roots in mountain music. The membe
 rs have done much to preserve the Whitetop regions style of old time fiddli
 ng and[..]\nhttps://heartofappalachia.com/event/carter-family-fold-presents
 -whitetop-mountain-band-hiltons-va-2/
URL:https://heartofappalachia.com/event/carter-family-fold-presents-whitetop-mountain-band-hiltons-va-2/
END:VEVENT
END:VCALENDAR